BEGIN:VCALENDAR
VERSION:2.0
PRODID:-//Danny Rongo &quot;That Oneness Guy&quot; - ECPv5.2.1.1//NONSGML v1.0//EN
CALSCALE:GREGORIAN
METHOD:PUBLISH
X-WR-CALNAME:Danny Rongo &quot;That Oneness Guy&quot;
X-ORIGINAL-URL:http://dannyrongo.com
X-WR-CALDESC:Events for Danny Rongo &quot;That Oneness Guy&quot;
BEGIN:VTIMEZONE
TZID:UTC
BEGIN:STANDARD
TZOFFSETFROM:+0000
TZOFFSETTO:+0000
TZNAME:UTC
DTSTART:20180101T000000
END:STANDARD
END:VTIMEZONE
BEGIN:VEVENT
DTSTART;TZID=UTC:20180107T140000
DTEND;TZID=UTC:20180107T170000
DTSTAMP:20260420T004941
CREATED:20171226T170613Z
LAST-MODIFIED:20171226T170613Z
UID:2502-1515333600-1515344400@dannyrongo.com
SUMMARY:Toscana Holiday Party - (private party)
DESCRIPTION:
URL:http://dannyrongo.com/event/toscana-holiday-party-private-party/
END:VEVENT
END:VCALENDAR