BEGIN:VCALENDAR
VERSION:2.0
PRODID:-//Danny Rongo &quot;That Oneness Guy&quot; - ECPv5.2.1.1//NONSGML v1.0//EN
CALSCALE:GREGORIAN
METHOD:PUBLISH
X-WR-CALNAME:Danny Rongo &quot;That Oneness Guy&quot;
X-ORIGINAL-URL:http://dannyrongo.com
X-WR-CALDESC:Events for Danny Rongo &quot;That Oneness Guy&quot;
BEGIN:VTIMEZONE
TZID:UTC
BEGIN:STANDARD
TZOFFSETFROM:+0000
TZOFFSETTO:+0000
TZNAME:UTC
DTSTART:20180101T000000
END:STANDARD
END:VTIMEZONE
BEGIN:VEVENT
DTSTART;TZID=UTC:20180302T210000
DTEND;TZID=UTC:20180302T235500
DTSTAMP:20260419T232935
CREATED:20171227T203825Z
LAST-MODIFIED:20171227T203825Z
UID:2517-1520024400-1520034900@dannyrongo.com
SUMMARY:Tim Kerwin's Tavern - (with Darren DeMarco band)
DESCRIPTION:
URL:http://dannyrongo.com/event/tim-kerwins-tavern-with-darren-demarco-band-2/
LOCATION:Tim Kerwin’s Tavern\, 353 Bound Brook Road\, Middlesex\, NJ\, 08846\, United States
END:VEVENT
END:VCALENDAR