BEGIN:VCALENDAR
VERSION:2.0
PRODID:-//Danny Rongo &quot;That Oneness Guy&quot; - ECPv5.2.1.1//NONSGML v1.0//EN
CALSCALE:GREGORIAN
METHOD:PUBLISH
X-WR-CALNAME:Danny Rongo &quot;That Oneness Guy&quot;
X-ORIGINAL-URL:http://dannyrongo.com
X-WR-CALDESC:Events for Danny Rongo &quot;That Oneness Guy&quot;
BEGIN:VTIMEZONE
TZID:UTC
BEGIN:STANDARD
TZOFFSETFROM:+0000
TZOFFSETTO:+0000
TZNAME:UTC
DTSTART:20170101T000000
END:STANDARD
END:VTIMEZONE
BEGIN:VEVENT
DTSTART;TZID=UTC:20170616T200000
DTEND;TZID=UTC:20170616T213000
DTSTAMP:20260423T002703
CREATED:20170418T195721Z
LAST-MODIFIED:20170422T172947Z
UID:2365-1497643200-1497648600@dannyrongo.com
SUMMARY:"THE PHONE CALL" A One Man Musical To Inspire Oneness
DESCRIPTION:
URL:http://dannyrongo.com/event/the-phone-call-a-one-man-musical-to-inspire-oneness-4/
LOCATION:Middletown Arts Center\, 36 Church St\, Middletown\, NJ\, 07748\, United States
END:VEVENT
END:VCALENDAR