BEGIN:VCALENDAR
VERSION:2.0
PRODID:-//Danny Rongo &quot;That Oneness Guy&quot; - ECPv5.2.1.1//NONSGML v1.0//EN
CALSCALE:GREGORIAN
METHOD:PUBLISH
X-WR-CALNAME:Danny Rongo &quot;That Oneness Guy&quot;
X-ORIGINAL-URL:http://dannyrongo.com
X-WR-CALDESC:Events for Danny Rongo &quot;That Oneness Guy&quot;
BEGIN:VTIMEZONE
TZID:UTC
BEGIN:STANDARD
TZOFFSETFROM:+0000
TZOFFSETTO:+0000
TZNAME:UTC
DTSTART:20180101T000000
END:STANDARD
END:VTIMEZONE
BEGIN:VEVENT
DTSTART;TZID=UTC:20180218T180000
DTEND;TZID=UTC:20180218T220000
DTSTAMP:20260419T230619
CREATED:20171226T170958Z
LAST-MODIFIED:20171226T170958Z
UID:2505-1518976800-1518991200@dannyrongo.com
SUMMARY:The Pattenburg House - (with Darren DeMarco band)
DESCRIPTION:
URL:http://dannyrongo.com/event/the-pattenburg-house-with-darren-demarco-band/
LOCATION:Pattenburg House\, 512 County Road 614\, Asbury\, NJ\, United States
END:VEVENT
END:VCALENDAR