BEGIN:VCALENDAR
VERSION:2.0
PRODID:-//Danny Rongo &quot;That Oneness Guy&quot; - ECPv5.2.1.1//NONSGML v1.0//EN
CALSCALE:GREGORIAN
METHOD:PUBLISH
X-WR-CALNAME:Danny Rongo &quot;That Oneness Guy&quot;
X-ORIGINAL-URL:http://dannyrongo.com
X-WR-CALDESC:Events for Danny Rongo &quot;That Oneness Guy&quot;
BEGIN:VTIMEZONE
TZID:UTC
BEGIN:STANDARD
TZOFFSETFROM:+0000
TZOFFSETTO:+0000
TZNAME:UTC
DTSTART:20170101T000000
END:STANDARD
END:VTIMEZONE
BEGIN:VEVENT
DTSTART;TZID=UTC:20170601T110000
DTEND;TZID=UTC:20170601T120000
DTSTAMP:20260423T063041
CREATED:20170526T134923Z
LAST-MODIFIED:20170526T134938Z
UID:2374-1496314800-1496318400@dannyrongo.com
SUMMARY:The Brookside - Solo event for Seniors
DESCRIPTION:(THIS IS A PRIVATE EVENT)
URL:http://dannyrongo.com/event/the-brookside-solo-event-for-seniors/
LOCATION:Mattison Crossing\, 93 Manalapan Ave\, Freehold\, NJ\, 07728\, United States
END:VEVENT
END:VCALENDAR