BEGIN:VCALENDAR
VERSION:2.0
PRODID:-//Danny Rongo &quot;That Oneness Guy&quot; - ECPv5.2.1.1//NONSGML v1.0//EN
CALSCALE:GREGORIAN
METHOD:PUBLISH
X-WR-CALNAME:Danny Rongo &quot;That Oneness Guy&quot;
X-ORIGINAL-URL:http://dannyrongo.com
X-WR-CALDESC:Events for Danny Rongo &quot;That Oneness Guy&quot;
BEGIN:VTIMEZONE
TZID:UTC
BEGIN:STANDARD
TZOFFSETFROM:+0000
TZOFFSETTO:+0000
TZNAME:UTC
DTSTART:20180101T000000
END:STANDARD
END:VTIMEZONE
BEGIN:VEVENT
DTSTART;TZID=UTC:20180911T110000
DTEND;TZID=UTC:20180911T120000
DTSTAMP:20260419T121953
CREATED:20171211T161933Z
LAST-MODIFIED:20180830T145618Z
UID:2495-1536663600-1536667200@dannyrongo.com
SUMMARY:Mattison Crossing
DESCRIPTION:
URL:http://dannyrongo.com/event/the-brookside-show-for-our-seniors-9/
LOCATION:Mattison Crossing\, 93 Manalapan Ave\, Freehold\, NJ\, 07728\, United States
END:VEVENT
END:VCALENDAR