BEGIN:VCALENDAR
VERSION:2.0
PRODID:-//Danny Rongo &quot;That Oneness Guy&quot; - ECPv5.2.1.1//NONSGML v1.0//EN
CALSCALE:GREGORIAN
METHOD:PUBLISH
X-WR-CALNAME:Danny Rongo &quot;That Oneness Guy&quot;
X-ORIGINAL-URL:http://dannyrongo.com
X-WR-CALDESC:Events for Danny Rongo &quot;That Oneness Guy&quot;
BEGIN:VTIMEZONE
TZID:UTC
BEGIN:STANDARD
TZOFFSETFROM:+0000
TZOFFSETTO:+0000
TZNAME:UTC
DTSTART:20180101T000000
END:STANDARD
END:VTIMEZONE
BEGIN:VEVENT
DTSTART;TZID=UTC:20180214T143000
DTEND;TZID=UTC:20180214T153000
DTSTAMP:20260420T005403
CREATED:20171230T184542Z
LAST-MODIFIED:20171230T184542Z
UID:2527-1518618600-1518622200@dannyrongo.com
SUMMARY:Sunrise Assisted Living - Valentines Show for seniors
DESCRIPTION:
URL:http://dannyrongo.com/event/sunrise-assisted-living-valentines-show-for-seniors/
LOCATION:Sunrise Assisted Living of Randolph\, 648 Route 10 West\, Randolph\, NJ\, United States
END:VEVENT
END:VCALENDAR