BEGIN:VCALENDAR
VERSION:2.0
PRODID:-//Danny Rongo &quot;That Oneness Guy&quot; - ECPv5.2.1.1//NONSGML v1.0//EN
CALSCALE:GREGORIAN
METHOD:PUBLISH
X-WR-CALNAME:Danny Rongo &quot;That Oneness Guy&quot;
X-ORIGINAL-URL:http://dannyrongo.com
X-WR-CALDESC:Events for Danny Rongo &quot;That Oneness Guy&quot;
BEGIN:VTIMEZONE
TZID:UTC
BEGIN:STANDARD
TZOFFSETFROM:+0000
TZOFFSETTO:+0000
TZNAME:UTC
DTSTART:20180101T000000
END:STANDARD
END:VTIMEZONE
BEGIN:VEVENT
DTSTART;TZID=UTC:20180914T210000
DTEND;TZID=UTC:20180914T235500
DTSTAMP:20260419T120848
CREATED:20171130T004937Z
LAST-MODIFIED:20171130T004937Z
UID:2477-1536958800-1536969300@dannyrongo.com
SUMMARY:Stage House Tavern Somerset - with Darren DeMarco Band
DESCRIPTION:
URL:http://dannyrongo.com/event/stage-house-tavern-somerset-with-darren-demarco-band-4/
LOCATION:Stagehouse Tavern\, 1719 Amwell Rd\, Somerset\, NJ\, United States
END:VEVENT
END:VCALENDAR