BEGIN:VCALENDAR
VERSION:2.0
PRODID:-//Danny Rongo &quot;That Oneness Guy&quot; - ECPv5.2.1.1//NONSGML v1.0//EN
CALSCALE:GREGORIAN
METHOD:PUBLISH
X-WR-CALNAME:Danny Rongo &quot;That Oneness Guy&quot;
X-ORIGINAL-URL:http://dannyrongo.com
X-WR-CALDESC:Events for Danny Rongo &quot;That Oneness Guy&quot;
BEGIN:VTIMEZONE
TZID:UTC
BEGIN:STANDARD
TZOFFSETFROM:+0000
TZOFFSETTO:+0000
TZNAME:UTC
DTSTART:20180101T000000
END:STANDARD
END:VTIMEZONE
BEGIN:VEVENT
DTSTART;TZID=UTC:20180219T143000
DTEND;TZID=UTC:20180219T153000
DTSTAMP:20260420T005506
CREATED:20171230T184719Z
LAST-MODIFIED:20171230T184719Z
UID:2529-1519050600-1519054200@dannyrongo.com
SUMMARY:Rose Mountain Care Center - President's Day Show for seniors
DESCRIPTION:
URL:http://dannyrongo.com/event/rose-mountain-care-center-presidents-day-show-for-seniors/
LOCATION:Rose Mountain Care Center\, 27 Route US-1\, New Brunswick\, NJ\, United States
END:VEVENT
END:VCALENDAR