BEGIN:VCALENDAR
VERSION:2.0
PRODID:-//Danny Rongo &quot;That Oneness Guy&quot; - ECPv5.2.1.1//NONSGML v1.0//EN
CALSCALE:GREGORIAN
METHOD:PUBLISH
X-WR-CALNAME:Danny Rongo &quot;That Oneness Guy&quot;
X-ORIGINAL-URL:http://dannyrongo.com
X-WR-CALDESC:Events for Danny Rongo &quot;That Oneness Guy&quot;
BEGIN:VTIMEZONE
TZID:UTC
BEGIN:STANDARD
TZOFFSETFROM:+0000
TZOFFSETTO:+0000
TZNAME:UTC
DTSTART:20180101T000000
END:STANDARD
END:VTIMEZONE
BEGIN:VEVENT
DTSTART;TZID=UTC:20180824T180000
DTEND;TZID=UTC:20180824T220000
DTSTAMP:20260419T141049
CREATED:20180413T140109Z
LAST-MODIFIED:20180413T140109Z
UID:2629-1535133600-1535148000@dannyrongo.com
SUMMARY:Rooney's Oceanfront Restaurant (with Goldenseal)
DESCRIPTION:
URL:http://dannyrongo.com/event/rooneys-oceanfront-restaurant-with-goldenseal/
LOCATION:Rooney’s Oceanfront Restaurant\, 100 Ocean Ave\, Long Branch\, NJ\, 07740\, United States
END:VEVENT
END:VCALENDAR