BEGIN:VCALENDAR
VERSION:2.0
PRODID:-//Danny Rongo &quot;That Oneness Guy&quot; - ECPv5.2.1.1//NONSGML v1.0//EN
CALSCALE:GREGORIAN
METHOD:PUBLISH
X-WR-CALNAME:Danny Rongo &quot;That Oneness Guy&quot;
X-ORIGINAL-URL:http://dannyrongo.com
X-WR-CALDESC:Events for Danny Rongo &quot;That Oneness Guy&quot;
BEGIN:VTIMEZONE
TZID:UTC
BEGIN:STANDARD
TZOFFSETFROM:+0000
TZOFFSETTO:+0000
TZNAME:UTC
DTSTART:20180101T000000
END:STANDARD
END:VTIMEZONE
BEGIN:VEVENT
DTSTART;TZID=UTC:20181110T150000
DTEND;TZID=UTC:20181110T230000
DTSTAMP:20260421T083223
CREATED:20171226T173312Z
LAST-MODIFIED:20171226T173312Z
UID:2513-1541862000-1541890800@dannyrongo.com
SUMMARY:ROCK THE VETS 2018
DESCRIPTION:Come support our U.S. Veterans in the 2nd Annual ‘ROCK THE VETS’ Fundraiser
URL:http://dannyrongo.com/event/rock-the-vets-2018/
LOCATION:Pattenburg House\, 512 County Road 614\, Asbury\, NJ\, United States
END:VEVENT
END:VCALENDAR