BEGIN:VCALENDAR
VERSION:2.0
PRODID:-//Danny Rongo &quot;That Oneness Guy&quot; - ECPv5.2.1.1//NONSGML v1.0//EN
CALSCALE:GREGORIAN
METHOD:PUBLISH
X-WR-CALNAME:Danny Rongo &quot;That Oneness Guy&quot;
X-ORIGINAL-URL:http://dannyrongo.com
X-WR-CALDESC:Events for Danny Rongo &quot;That Oneness Guy&quot;
BEGIN:VTIMEZONE
TZID:UTC
BEGIN:STANDARD
TZOFFSETFROM:+0000
TZOFFSETTO:+0000
TZNAME:UTC
DTSTART:20180101T000000
END:STANDARD
END:VTIMEZONE
BEGIN:VEVENT
DTSTART;TZID=UTC:20180713T020000
DTEND;TZID=UTC:20180713T150000
DTSTAMP:20260421T101651
CREATED:20180630T160855Z
LAST-MODIFIED:20180630T160855Z
UID:2696-1531447200-1531494000@dannyrongo.com
SUMMARY:Park Place Center
DESCRIPTION:
URL:http://dannyrongo.com/event/park-place-center/
LOCATION:Park Place Center\, 2 Deer Park Dr.\, Monmouth Junction\, NJ\, United States
END:VEVENT
END:VCALENDAR