BEGIN:VCALENDAR
VERSION:2.0
PRODID:-//Danny Rongo &quot;That Oneness Guy&quot; - ECPv5.2.1.1//NONSGML v1.0//EN
CALSCALE:GREGORIAN
METHOD:PUBLISH
X-WR-CALNAME:Danny Rongo &quot;That Oneness Guy&quot;
X-ORIGINAL-URL:http://dannyrongo.com
X-WR-CALDESC:Events for Danny Rongo &quot;That Oneness Guy&quot;
BEGIN:VTIMEZONE
TZID:UTC
BEGIN:STANDARD
TZOFFSETFROM:+0000
TZOFFSETTO:+0000
TZNAME:UTC
DTSTART:20180101T000000
END:STANDARD
END:VTIMEZONE
BEGIN:VEVENT
DTSTART;TZID=UTC:20180317T140000
DTEND;TZID=UTC:20180317T150000
DTSTAMP:20260419T231359
CREATED:20180112T144351Z
LAST-MODIFIED:20180112T144351Z
UID:2554-1521295200-1521298800@dannyrongo.com
SUMMARY:Park Place Center - Special St. Patrick's Day show for seniors
DESCRIPTION:
URL:http://dannyrongo.com/event/park-place-center-special-st-patricks-day-show-for-seniors/
LOCATION:Park Place Center\, 2 Deer Park Dr.\, Monmouth Junction\, NJ\, United States
END:VEVENT
END:VCALENDAR