BEGIN:VCALENDAR
VERSION:2.0
PRODID:-//Danny Rongo &quot;That Oneness Guy&quot; - ECPv5.2.1.1//NONSGML v1.0//EN
CALSCALE:GREGORIAN
METHOD:PUBLISH
X-WR-CALNAME:Danny Rongo &quot;That Oneness Guy&quot;
X-ORIGINAL-URL:http://dannyrongo.com
X-WR-CALDESC:Events for Danny Rongo &quot;That Oneness Guy&quot;
BEGIN:VTIMEZONE
TZID:UTC
BEGIN:STANDARD
TZOFFSETFROM:+0000
TZOFFSETTO:+0000
TZNAME:UTC
DTSTART:20180101T000000
END:STANDARD
END:VTIMEZONE
BEGIN:VEVENT
DTSTART;TZID=UTC:20180826T123000
DTEND;TZID=UTC:20180826T163000
DTSTAMP:20260419T133056
CREATED:20180410T140635Z
LAST-MODIFIED:20180410T140635Z
UID:2598-1535286600-1535301000@dannyrongo.com
SUMMARY:NJ Wine Growers Association Festival (with Goldenseal)
DESCRIPTION:
URL:http://dannyrongo.com/event/nj-wine-growers-association-festival-with-goldenseal/
LOCATION:West Deptford\, West Deptford\, NJ\, United States
END:VEVENT
END:VCALENDAR