BEGIN:VCALENDAR
VERSION:2.0
PRODID:-//Danny Rongo &quot;That Oneness Guy&quot; - ECPv5.2.1.1//NONSGML v1.0//EN
CALSCALE:GREGORIAN
METHOD:PUBLISH
X-WR-CALNAME:Danny Rongo &quot;That Oneness Guy&quot;
X-ORIGINAL-URL:http://dannyrongo.com
X-WR-CALDESC:Events for Danny Rongo &quot;That Oneness Guy&quot;
BEGIN:VTIMEZONE
TZID:UTC
BEGIN:STANDARD
TZOFFSETFROM:+0000
TZOFFSETTO:+0000
TZNAME:UTC
DTSTART:20180101T000000
END:STANDARD
END:VTIMEZONE
BEGIN:VEVENT
DTSTART;TZID=UTC:20180915T140000
DTEND;TZID=UTC:20180915T150000
DTSTAMP:20260421T141825
CREATED:20180904T135211Z
LAST-MODIFIED:20180904T135211Z
UID:2734-1537020000-1537023600@dannyrongo.com
SUMMARY:NJ Veterans Memorial Home
DESCRIPTION:
URL:http://dannyrongo.com/event/nj-veterans-memorial-home/
LOCATION:NJ VETERANS MEMORIAL HOME\, 132 Evergreen Road\, Edison\, NJ\, United States
END:VEVENT
END:VCALENDAR