BEGIN:VCALENDAR
VERSION:2.0
PRODID:-//Danny Rongo &quot;That Oneness Guy&quot; - ECPv5.2.1.1//NONSGML v1.0//EN
CALSCALE:GREGORIAN
METHOD:PUBLISH
X-WR-CALNAME:Danny Rongo &quot;That Oneness Guy&quot;
X-ORIGINAL-URL:http://dannyrongo.com
X-WR-CALDESC:Events for Danny Rongo &quot;That Oneness Guy&quot;
BEGIN:VTIMEZONE
TZID:UTC
BEGIN:STANDARD
TZOFFSETFROM:+0000
TZOFFSETTO:+0000
TZNAME:UTC
DTSTART:20180101T000000
END:STANDARD
END:VTIMEZONE
BEGIN:VEVENT
DTSTART;TZID=UTC:20180528T140000
DTEND;TZID=UTC:20180528T150000
DTSTAMP:20260419T192919
CREATED:20180413T134812Z
LAST-MODIFIED:20180413T134812Z
UID:2628-1527516000-1527519600@dannyrongo.com
SUMMARY:NJ VETERANS MEMORIAL HOME (show for seniors)
DESCRIPTION:
URL:http://dannyrongo.com/event/nj-veterans-memorial-home-show-for-seniors-2/
LOCATION:NJ VETERANS MEMORIAL HOME\, 132 Evergreen Road\, Edison\, NJ\, United States
END:VEVENT
END:VCALENDAR