BEGIN:VCALENDAR
VERSION:2.0
PRODID:-//Danny Rongo &quot;That Oneness Guy&quot; - ECPv5.2.1.1//NONSGML v1.0//EN
CALSCALE:GREGORIAN
METHOD:PUBLISH
X-WR-CALNAME:Danny Rongo &quot;That Oneness Guy&quot;
X-ORIGINAL-URL:http://dannyrongo.com
X-WR-CALDESC:Events for Danny Rongo &quot;That Oneness Guy&quot;
BEGIN:VTIMEZONE
TZID:UTC
BEGIN:STANDARD
TZOFFSETFROM:+0000
TZOFFSETTO:+0000
TZNAME:UTC
DTSTART:20180101T000000
END:STANDARD
END:VTIMEZONE
BEGIN:VEVENT
DTSTART;TZID=UTC:20180610T153000
DTEND;TZID=UTC:20180610T183000
DTSTAMP:20260419T174142
CREATED:20180528T135941Z
LAST-MODIFIED:20180528T135941Z
UID:2664-1528644600-1528655400@dannyrongo.com
SUMMARY:Music Festival - Clinton Elks Lodge (with Darren DeMarco Band)
DESCRIPTION:
URL:http://dannyrongo.com/event/music-festival-clinton-elks-lodge-with-darren-demarco-band/
LOCATION:Clinton Elks\, Clinton\, NJ\, United States
END:VEVENT
END:VCALENDAR