BEGIN:VCALENDAR
VERSION:2.0
PRODID:-//Danny Rongo &quot;That Oneness Guy&quot; - ECPv5.2.1.1//NONSGML v1.0//EN
CALSCALE:GREGORIAN
METHOD:PUBLISH
X-WR-CALNAME:Danny Rongo &quot;That Oneness Guy&quot;
X-ORIGINAL-URL:http://dannyrongo.com
X-WR-CALDESC:Events for Danny Rongo &quot;That Oneness Guy&quot;
BEGIN:VTIMEZONE
TZID:UTC
BEGIN:STANDARD
TZOFFSETFROM:+0000
TZOFFSETTO:+0000
TZNAME:UTC
DTSTART:20170101T000000
END:STANDARD
END:VTIMEZONE
BEGIN:VEVENT
DTSTART;TZID=UTC:20171118T210000
DTEND;TZID=UTC:20171118T235500
DTSTAMP:20260420T035916
CREATED:20171106T225417Z
LAST-MODIFIED:20171106T225417Z
UID:2459-1511038800-1511049300@dannyrongo.com
SUMMARY:Mount Holleran Towne Tavern (with JoMamma Band)
DESCRIPTION:
URL:http://dannyrongo.com/event/mount-holleran-towne-tavern-with-jomamma-band/
LOCATION:Mount Holleran Towne Tavern\, 450 North Beverwyck Road\, Parsippany\, NJ\, 07054\, United States
END:VEVENT
END:VCALENDAR