BEGIN:VCALENDAR
VERSION:2.0
PRODID:-//Danny Rongo &quot;That Oneness Guy&quot; - ECPv5.2.1.1//NONSGML v1.0//EN
CALSCALE:GREGORIAN
METHOD:PUBLISH
X-WR-CALNAME:Danny Rongo &quot;That Oneness Guy&quot;
X-ORIGINAL-URL:http://dannyrongo.com
X-WR-CALDESC:Events for Danny Rongo &quot;That Oneness Guy&quot;
BEGIN:VTIMEZONE
TZID:UTC
BEGIN:STANDARD
TZOFFSETFROM:+0000
TZOFFSETTO:+0000
TZNAME:UTC
DTSTART:20180101T000000
END:STANDARD
END:VTIMEZONE
BEGIN:VEVENT
DTSTART;TZID=UTC:20180224T210000
DTEND;TZID=UTC:20180224T235500
DTSTAMP:20260419T230553
CREATED:20171226T171109Z
LAST-MODIFIED:20180219T155003Z
UID:2506-1519506000-1519516500@dannyrongo.com
SUMMARY:Mule Tavern - (with Joe Mama band)
DESCRIPTION:** NEW OWNERSHIP!
URL:http://dannyrongo.com/event/mount-holleran-town-tavern-with-joe-mama-band/
LOCATION:Mount Holleran Towne Tavern\, 450 North Beverwyck Road\, Parsippany\, NJ\, 07054\, United States
END:VEVENT
END:VCALENDAR