BEGIN:VCALENDAR
VERSION:2.0
PRODID:-//Danny Rongo &quot;That Oneness Guy&quot; - ECPv5.2.1.1//NONSGML v1.0//EN
CALSCALE:GREGORIAN
METHOD:PUBLISH
X-WR-CALNAME:Danny Rongo &quot;That Oneness Guy&quot;
X-ORIGINAL-URL:http://dannyrongo.com
X-WR-CALDESC:Events for Danny Rongo &quot;That Oneness Guy&quot;
BEGIN:VTIMEZONE
TZID:UTC
BEGIN:STANDARD
TZOFFSETFROM:+0000
TZOFFSETTO:+0000
TZNAME:UTC
DTSTART:20170101T000000
END:STANDARD
END:VTIMEZONE
BEGIN:VEVENT
DTSTART;TZID=UTC:20170618T140000
DTEND;TZID=UTC:20170618T150000
DTSTAMP:20260422T210842
CREATED:20161021T150856Z
LAST-MODIFIED:20170424T205954Z
UID:2151-1497794400-1497798000@dannyrongo.com
SUMMARY:Laurel Bay Health & Rehab - performance for residents
DESCRIPTION:
URL:http://dannyrongo.com/event/laurel-bay-health-rehab-performance-for-seniors/
LOCATION:Laurel Bay Health & Rehab\, 12 Laurel Ave\, Keansburg\, NJ\, 07734\, United States
END:VEVENT
END:VCALENDAR