BEGIN:VCALENDAR
VERSION:2.0
PRODID:-//Danny Rongo &quot;That Oneness Guy&quot; - ECPv5.2.1.1//NONSGML v1.0//EN
CALSCALE:GREGORIAN
METHOD:PUBLISH
X-WR-CALNAME:Danny Rongo &quot;That Oneness Guy&quot;
X-ORIGINAL-URL:http://dannyrongo.com
X-WR-CALDESC:Events for Danny Rongo &quot;That Oneness Guy&quot;
BEGIN:VTIMEZONE
TZID:UTC
BEGIN:STANDARD
TZOFFSETFROM:+0000
TZOFFSETTO:+0000
TZNAME:UTC
DTSTART:20220101T000000
END:STANDARD
END:VTIMEZONE
BEGIN:VEVENT
DTSTART;TZID=UTC:20220604T120000
DTEND;TZID=UTC:20220604T170000
DTSTAMP:20260420T103526
CREATED:20220326T221652Z
LAST-MODIFIED:20220326T221652Z
UID:3473-1654344000-1654362000@dannyrongo.com
SUMMARY:Graeme Preston Foundation Fundraiser (with Goldenseal)
DESCRIPTION:For this very special show\, I will be filling in as lead vocalist for my good friend Joe Hughes and his classic rock band Goldenseal \nThe Graeme Preston Foundation for Life was created to honor Graeme Preston\, who passed away at age 12 on March 3\, 2008. In memory of his courage\, compassion\, and infectious generosity\, the Graeme Preston Foundation supports like-minded individuals and groups\, enriching lives and communities through random acts of kindness.
URL:http://dannyrongo.com/event/graeme-preston-foundation-fundraiser-with-goldenseal/
LOCATION:Pine Grove Park\, Herbertsville Road\, Wall Township\, NJ\, United States
END:VEVENT
END:VCALENDAR