BEGIN:VCALENDAR
VERSION:2.0
PRODID:-//Danny Rongo &quot;That Oneness Guy&quot; - ECPv5.2.1.1//NONSGML v1.0//EN
CALSCALE:GREGORIAN
METHOD:PUBLISH
X-WR-CALNAME:Danny Rongo &quot;That Oneness Guy&quot;
X-ORIGINAL-URL:http://dannyrongo.com
X-WR-CALDESC:Events for Danny Rongo &quot;That Oneness Guy&quot;
BEGIN:VTIMEZONE
TZID:UTC
BEGIN:STANDARD
TZOFFSETFROM:+0000
TZOFFSETTO:+0000
TZNAME:UTC
DTSTART:20180101T000000
END:STANDARD
END:VTIMEZONE
BEGIN:VEVENT
DTSTART;TZID=UTC:20180901T190000
DTEND;TZID=UTC:20180901T220000
DTSTAMP:20260419T121321
CREATED:20180813T172735Z
LAST-MODIFIED:20180813T172735Z
UID:2721-1535828400-1535839200@dannyrongo.com
SUMMARY:Edgewater Beach Club (with Goldenseal)
DESCRIPTION:
URL:http://dannyrongo.com/event/edgewater-beach-club-with-goldenseal/
LOCATION:Edgewater Beach and Cabana Club\, 1465 Ocean Ave\, Sea Bright\, NJ\, United States
END:VEVENT
END:VCALENDAR