BEGIN:VCALENDAR
VERSION:2.0
PRODID:-//Danny Rongo &quot;That Oneness Guy&quot; - ECPv5.2.1.1//NONSGML v1.0//EN
CALSCALE:GREGORIAN
METHOD:PUBLISH
X-WR-CALNAME:Danny Rongo &quot;That Oneness Guy&quot;
X-ORIGINAL-URL:http://dannyrongo.com
X-WR-CALDESC:Events for Danny Rongo &quot;That Oneness Guy&quot;
BEGIN:VTIMEZONE
TZID:UTC
BEGIN:STANDARD
TZOFFSETFROM:+0000
TZOFFSETTO:+0000
TZNAME:UTC
DTSTART:20190101T000000
END:STANDARD
END:VTIMEZONE
BEGIN:VEVENT
DTSTART;TZID=UTC:20190720T190000
DTEND;TZID=UTC:20190720T220000
DTSTAMP:20260420T085651
CREATED:20190618T220235Z
LAST-MODIFIED:20190618T220235Z
UID:2897-1563649200-1563660000@dannyrongo.com
SUMMARY:Edgewater Beach Club (with Goldenseal)
DESCRIPTION:
URL:http://dannyrongo.com/event/edgewater-beach-club-with-goldenseal-2/
LOCATION:Edgewater Beach and Cabana Club\, 1465 Ocean Ave\, Sea Bright\, NJ\, United States
END:VEVENT
END:VCALENDAR