BEGIN:VCALENDAR
VERSION:2.0
PRODID:-//Danny Rongo &quot;That Oneness Guy&quot; - ECPv5.2.1.1//NONSGML v1.0//EN
CALSCALE:GREGORIAN
METHOD:PUBLISH
X-WR-CALNAME:Danny Rongo &quot;That Oneness Guy&quot;
X-ORIGINAL-URL:http://dannyrongo.com
X-WR-CALDESC:Events for Danny Rongo &quot;That Oneness Guy&quot;
BEGIN:VTIMEZONE
TZID:UTC
BEGIN:STANDARD
TZOFFSETFROM:+0000
TZOFFSETTO:+0000
TZNAME:UTC
DTSTART:20180101T000000
END:STANDARD
END:VTIMEZONE
BEGIN:VEVENT
DTSTART;TZID=UTC:20180504T210000
DTEND;TZID=UTC:20180504T235500
DTSTAMP:20260425T110824
CREATED:20171227T204708Z
LAST-MODIFIED:20171227T204708Z
UID:2521-1525467600-1525478100@dannyrongo.com
SUMMARY:Crabs Claw Inn - (with Darren DeMarco band)
DESCRIPTION:
URL:http://dannyrongo.com/event/crabs-claw-inn-with-darren-demarco-band/
LOCATION:The Crabs Claw Inn\, 601 Grand Central Ave\, Lavallette\, NJ\, United States
END:VEVENT
END:VCALENDAR