BEGIN:VCALENDAR
VERSION:2.0
PRODID:-//Danny Rongo &quot;That Oneness Guy&quot; - ECPv5.2.1.1//NONSGML v1.0//EN
CALSCALE:GREGORIAN
METHOD:PUBLISH
X-WR-CALNAME:Danny Rongo &quot;That Oneness Guy&quot;
X-ORIGINAL-URL:http://dannyrongo.com
X-WR-CALDESC:Events for Danny Rongo &quot;That Oneness Guy&quot;
BEGIN:VTIMEZONE
TZID:UTC
BEGIN:STANDARD
TZOFFSETFROM:+0000
TZOFFSETTO:+0000
TZNAME:UTC
DTSTART:20170101T000000
END:STANDARD
END:VTIMEZONE
BEGIN:VEVENT
DTSTART;TZID=UTC:20170914T190000
DTEND;TZID=UTC:20170914T220000
DTSTAMP:20260420T040530
CREATED:20170822T211427Z
LAST-MODIFIED:20170822T211427Z
UID:2439-1505415600-1505426400@dannyrongo.com
SUMMARY:COLTS NECK INN - Special Solo Performance
DESCRIPTION:
URL:http://dannyrongo.com/event/colts-neck-inn-special-solo-performance/
LOCATION:Colts Neck Inn\, 6 route 520\, Colts Neck\, NJ\, 07722\, United States
END:VEVENT
END:VCALENDAR