BEGIN:VCALENDAR
VERSION:2.0
PRODID:-//Danny Rongo &quot;That Oneness Guy&quot; - ECPv5.2.1.1//NONSGML v1.0//EN
CALSCALE:GREGORIAN
METHOD:PUBLISH
X-WR-CALNAME:Danny Rongo &quot;That Oneness Guy&quot;
X-ORIGINAL-URL:http://dannyrongo.com
X-WR-CALDESC:Events for Danny Rongo &quot;That Oneness Guy&quot;
BEGIN:VTIMEZONE
TZID:UTC
BEGIN:STANDARD
TZOFFSETFROM:+0000
TZOFFSETTO:+0000
TZNAME:UTC
DTSTART:20180101T000000
END:STANDARD
END:VTIMEZONE
BEGIN:VEVENT
DTSTART;TZID=UTC:20181020T140000
DTEND;TZID=UTC:20181020T150000
DTSTAMP:20260421T083636
CREATED:20180911T193314Z
LAST-MODIFIED:20180911T193314Z
UID:2740-1540044000-1540047600@dannyrongo.com
SUMMARY:CareOne at Livingston
DESCRIPTION:
URL:http://dannyrongo.com/event/careone-at-livingston-3/
LOCATION:CareOne at Livingston\, 68 Passaic Ave.\, Livingston\, NJ\, United States
END:VEVENT
END:VCALENDAR