BEGIN:VCALENDAR
VERSION:2.0
PRODID:-//Danny Rongo &quot;That Oneness Guy&quot; - ECPv5.2.1.1//NONSGML v1.0//EN
CALSCALE:GREGORIAN
METHOD:PUBLISH
X-WR-CALNAME:Danny Rongo &quot;That Oneness Guy&quot;
X-ORIGINAL-URL:http://dannyrongo.com
X-WR-CALDESC:Events for Danny Rongo &quot;That Oneness Guy&quot;
BEGIN:VTIMEZONE
TZID:UTC
BEGIN:STANDARD
TZOFFSETFROM:+0000
TZOFFSETTO:+0000
TZNAME:UTC
DTSTART:20180101T000000
END:STANDARD
END:VTIMEZONE
BEGIN:VEVENT
DTSTART;TZID=UTC:20180525T143000
DTEND;TZID=UTC:20180525T153000
DTSTAMP:20260419T192122
CREATED:20180425T125456Z
LAST-MODIFIED:20180425T125456Z
UID:2640-1527258600-1527262200@dannyrongo.com
SUMMARY:Care One at the Highlands (show for seniors)
DESCRIPTION:
URL:http://dannyrongo.com/event/care-one-at-the-highlands-show-for-seniors/
LOCATION:Care One at the Highlands\, 1350 Inman Ave\, Edison\, United States
END:VEVENT
END:VCALENDAR