BEGIN:VCALENDAR
VERSION:2.0
PRODID:-//Danny Rongo &quot;That Oneness Guy&quot; - ECPv5.2.1.1//NONSGML v1.0//EN
CALSCALE:GREGORIAN
METHOD:PUBLISH
X-WR-CALNAME:Danny Rongo &quot;That Oneness Guy&quot;
X-ORIGINAL-URL:http://dannyrongo.com
X-WR-CALDESC:Events for Danny Rongo &quot;That Oneness Guy&quot;
BEGIN:VTIMEZONE
TZID:UTC
BEGIN:STANDARD
TZOFFSETFROM:+0000
TZOFFSETTO:+0000
TZNAME:UTC
DTSTART:20170101T000000
END:STANDARD
END:VTIMEZONE
BEGIN:VEVENT
DTSTART;TZID=UTC:20171121T190000
DTEND;TZID=UTC:20171121T203000
DTSTAMP:20260420T023334
CREATED:20171027T122902Z
LAST-MODIFIED:20171027T122902Z
UID:2454-1511290800-1511296200@dannyrongo.com
SUMMARY:Cafe Artiste - Songwriters Showcase
DESCRIPTION:
URL:http://dannyrongo.com/event/cafe-artiste-songwriters-showcase/
LOCATION:JERSEY SHORE ARTS CENTER\, 66 S. Main St\, Ocean Grove\, NJ\, United States
END:VEVENT
END:VCALENDAR