BEGIN:VCALENDAR
VERSION:2.0
PRODID:-//Danny Rongo &quot;That Oneness Guy&quot; - ECPv5.2.1.1//NONSGML v1.0//EN
CALSCALE:GREGORIAN
METHOD:PUBLISH
X-WR-CALNAME:Danny Rongo &quot;That Oneness Guy&quot;
X-ORIGINAL-URL:http://dannyrongo.com
X-WR-CALDESC:Events for Danny Rongo &quot;That Oneness Guy&quot;
BEGIN:VTIMEZONE
TZID:UTC
BEGIN:STANDARD
TZOFFSETFROM:+0000
TZOFFSETTO:+0000
TZNAME:UTC
DTSTART:20180101T000000
END:STANDARD
END:VTIMEZONE
BEGIN:VEVENT
DTSTART;TZID=UTC:20180705T170000
DTEND;TZID=UTC:20180705T180000
DTSTAMP:20260419T153620
CREATED:20180630T160657Z
LAST-MODIFIED:20180630T160657Z
UID:2694-1530810000-1530813600@dannyrongo.com
SUMMARY:Brookdale Hamilton
DESCRIPTION:
URL:http://dannyrongo.com/event/brookdale-hamilton/
LOCATION:Brookdale Hamilton\, 1645 Whitehorse Mercerville Road\, Hamilton\, NJ\, United States
END:VEVENT
END:VCALENDAR