BEGIN:VCALENDAR
VERSION:2.0
PRODID:-//Danny Rongo &quot;That Oneness Guy&quot; - ECPv5.2.1.1//NONSGML v1.0//EN
CALSCALE:GREGORIAN
METHOD:PUBLISH
X-WR-CALNAME:Danny Rongo &quot;That Oneness Guy&quot;
X-ORIGINAL-URL:http://dannyrongo.com
X-WR-CALDESC:Events for Danny Rongo &quot;That Oneness Guy&quot;
BEGIN:VTIMEZONE
TZID:UTC
BEGIN:STANDARD
TZOFFSETFROM:+0000
TZOFFSETTO:+0000
TZNAME:UTC
DTSTART:20180101T000000
END:STANDARD
END:VTIMEZONE
BEGIN:VEVENT
DTSTART;TZID=UTC:20180602T140000
DTEND;TZID=UTC:20180602T150000
DTSTAMP:20260421T083849
CREATED:20180528T135351Z
LAST-MODIFIED:20180528T135351Z
UID:2658-1527948000-1527951600@dannyrongo.com
SUMMARY:Brookdale at Westampton (show for seniors)
DESCRIPTION:
URL:http://dannyrongo.com/event/brookdale-at-westampton-show-for-seniors/
LOCATION:Brookdale at Westampton\, 480 Woodlane Rd\, Westampton\, NJ\, United States
END:VEVENT
END:VCALENDAR