BEGIN:VCALENDAR
VERSION:2.0
PRODID:-//Danny Rongo &quot;That Oneness Guy&quot; - ECPv5.2.1.1//NONSGML v1.0//EN
CALSCALE:GREGORIAN
METHOD:PUBLISH
X-WR-CALNAME:Danny Rongo &quot;That Oneness Guy&quot;
X-ORIGINAL-URL:http://dannyrongo.com
X-WR-CALDESC:Events for Danny Rongo &quot;That Oneness Guy&quot;
BEGIN:VTIMEZONE
TZID:UTC
BEGIN:STANDARD
TZOFFSETFROM:+0000
TZOFFSETTO:+0000
TZNAME:UTC
DTSTART:20180101T000000
END:STANDARD
END:VTIMEZONE
BEGIN:VEVENT
DTSTART;TZID=UTC:20180517T140000
DTEND;TZID=UTC:20180517T150000
DTSTAMP:20260419T190857
CREATED:20180425T125337Z
LAST-MODIFIED:20180425T125337Z
UID:2638-1526565600-1526569200@dannyrongo.com
SUMMARY:Brandywine at the Reflections (show for seniors)
DESCRIPTION:
URL:http://dannyrongo.com/event/brandywine-at-the-reflections-show-for-seniors/
LOCATION:Brandywine at the Reflections\, 2005 Route 22 West\, Bridgewater
END:VEVENT
END:VCALENDAR