BEGIN:VCALENDAR
VERSION:2.0
PRODID:-//Danny Rongo &quot;That Oneness Guy&quot; - ECPv5.2.1.1//NONSGML v1.0//EN
CALSCALE:GREGORIAN
METHOD:PUBLISH
X-WR-CALNAME:Danny Rongo &quot;That Oneness Guy&quot;
X-ORIGINAL-URL:http://dannyrongo.com
X-WR-CALDESC:Events for Danny Rongo &quot;That Oneness Guy&quot;
BEGIN:VTIMEZONE
TZID:UTC
BEGIN:STANDARD
TZOFFSETFROM:+0000
TZOFFSETTO:+0000
TZNAME:UTC
DTSTART:20190101T000000
END:STANDARD
END:VTIMEZONE
BEGIN:VEVENT
DTSTART;TZID=UTC:20191019T140000
DTEND;TZID=UTC:20191019T150000
DTSTAMP:20260420T123123
CREATED:20191005T175716Z
LAST-MODIFIED:20191005T175716Z
UID:2989-1571493600-1571497200@dannyrongo.com
SUMMARY:Brandywine at Middlebrook Crossing
DESCRIPTION:
URL:http://dannyrongo.com/event/brandywine-at-middlebrook-crossing-5/
LOCATION:Brandywine at Middlebrook Crossing\, 2005 Route 22 West\, Bridgewater\, NJ\, United States
END:VEVENT
END:VCALENDAR