BEGIN:VCALENDAR
VERSION:2.0
PRODID:-//Danny Rongo &quot;That Oneness Guy&quot; - ECPv5.2.1.1//NONSGML v1.0//EN
CALSCALE:GREGORIAN
METHOD:PUBLISH
X-WR-CALNAME:Danny Rongo &quot;That Oneness Guy&quot;
X-ORIGINAL-URL:http://dannyrongo.com
X-WR-CALDESC:Events for Danny Rongo &quot;That Oneness Guy&quot;
BEGIN:VTIMEZONE
TZID:UTC
BEGIN:STANDARD
TZOFFSETFROM:+0000
TZOFFSETTO:+0000
TZNAME:UTC
DTSTART:20180101T000000
END:STANDARD
END:VTIMEZONE
BEGIN:VEVENT
DTSTART;TZID=UTC:20180704T140000
DTEND;TZID=UTC:20180704T150000
DTSTAMP:20260419T154310
CREATED:20171230T185003Z
LAST-MODIFIED:20180618T140917Z
UID:2533-1530712800-1530716400@dannyrongo.com
SUMMARY:Avalon Assisted Living - 4th of July Show
DESCRIPTION:
URL:http://dannyrongo.com/event/avalon-assisted-living-4th-of-july-show-for-seniors/
LOCATION:Avalon Assisted Living\, 393 Amwell Road\, Hillsborough\, NJ\, United States
END:VEVENT
END:VCALENDAR