BEGIN:VCALENDAR
VERSION:2.0
PRODID:-//Danny Rongo &quot;That Oneness Guy&quot; - ECPv5.2.1.1//NONSGML v1.0//EN
CALSCALE:GREGORIAN
METHOD:PUBLISH
X-WR-CALNAME:Danny Rongo &quot;That Oneness Guy&quot;
X-ORIGINAL-URL:http://dannyrongo.com
X-WR-CALDESC:Events for Danny Rongo &quot;That Oneness Guy&quot;
BEGIN:VTIMEZONE
TZID:UTC
BEGIN:STANDARD
TZOFFSETFROM:+0000
TZOFFSETTO:+0000
TZNAME:UTC
DTSTART:20180101T000000
END:STANDARD
END:VTIMEZONE
BEGIN:VEVENT
DTSTART;TZID=UTC:20180717T143000
DTEND;TZID=UTC:20180717T153000
DTSTAMP:20260419T141856
CREATED:20180112T144513Z
LAST-MODIFIED:20180618T141006Z
UID:2556-1531837800-1531841400@dannyrongo.com
SUMMARY:Applewood Estates
DESCRIPTION:
URL:http://dannyrongo.com/event/applewood-estates-show-for-seniors/
LOCATION:Applewood Estates\, 1 Applewood Dr\, Freehold\, NJ\, United States
END:VEVENT
END:VCALENDAR