BEGIN:VCALENDAR
VERSION:2.0
PRODID:-//Danny Rongo &quot;That Oneness Guy&quot; - ECPv5.2.1.1//NONSGML v1.0//EN
CALSCALE:GREGORIAN
METHOD:PUBLISH
X-WR-CALNAME:Danny Rongo &quot;That Oneness Guy&quot;
X-ORIGINAL-URL:http://dannyrongo.com
X-WR-CALDESC:Events for Danny Rongo &quot;That Oneness Guy&quot;
BEGIN:VTIMEZONE
TZID:UTC
BEGIN:STANDARD
TZOFFSETFROM:+0000
TZOFFSETTO:+0000
TZNAME:UTC
DTSTART:20180101T000000
END:STANDARD
END:VTIMEZONE
BEGIN:VEVENT
DTSTART;TZID=UTC:20180627T103000
DTEND;TZID=UTC:20180627T113000
DTSTAMP:20260419T155808
CREATED:20180521T212417Z
LAST-MODIFIED:20180618T140851Z
UID:2655-1530095400-1530099000@dannyrongo.com
SUMMARY:All American at Hillsborough
DESCRIPTION:
URL:http://dannyrongo.com/event/all-american-at-hillsborough-show-for-seniors/
LOCATION:All American Assisted Living\, 351 Route 206\, Hillsborough\, NJ\, 08844\, United States
END:VEVENT
END:VCALENDAR